BEGIN:VCALENDAR
VERSION:2.0
PRODID:-//Events | FID-Recht//NONSGML Events//EN
CALSCALE:GREGORIAN
X-ORIGINAL-URL:https://events.intrecht.de/termine/
X-WR-CALDESC:Events | FID-Recht - Events
BEGIN:VEVENT
UID:20221001T2302Z-1664665334.8296-EO-6368-1@172.16.200.151
STATUS:CONFIRMED
DTSTAMP:20260421T115613Z
CREATED:20220929T074954Z
LAST-MODIFIED:20220929T075842Z
DTSTART;VALUE=DATE:20230718
DTEND;VALUE=DATE:20230722
SUMMARY: 63. Junge Tagung Öffentliches Recht (JTÖR) 2023 zum Thema Interakt
 ionen: Internationalität\, Intra- und Interdisziplinarität
DESCRIPTION: 18.-21.7.2023\, Hamburg https://www.hsu-hh.de/jtoer23/  
X-ALT-DESC;FMTTYPE=text/html: <p>18.-21.7.2023\, Hamburg</p><p><a href="htt
 ps://www.hsu-hh.de/jtoer23/">https://www.hsu-hh.de/jtoer23/</a></p><p> </p>
 <p>[av_button label='iCal-Export' link='./feed/eo-events' link_target='' si
 ze='small' position='center' label_display='' title_attr='' icon_select='ye
 s' icon='ue85b' font='entypo-fontello' color='custom' custom_bg='#b5123e' c
 ustom_font='#ffffff' av_uid='' id='' custom_class='' admin_preview_bg='']</
 p>
CATEGORIES:Öffentliches Recht
LOCATION:Inland
GEO:0.000000;0.000000
ORGANIZER;CN="ViFa-Recht":MAILTO:vifa-recht@sbb.spk-berlin.de
URL;VALUE=URI:https://events.intrecht.de/termine/termin/63-junge-tagung-oef
 fentliches-recht-jtoer-2023-zum-thema-interaktionen-internationalitaet-intr
 a-und-interdisziplinaritaet-in-hamburg/
END:VEVENT
BEGIN:VTIMEZONE
TZID:Europe/Berlin
BEGIN:DAYLIGHT
TZOFFSETFROM:+0100
TZOFFSETTO:+0200
DTSTART:20230326T010000
TZNAME:CEST
END:DAYLIGHT
END:VTIMEZONE
END:VCALENDAR
