BEGIN:VCALENDAR
VERSION:2.0
PRODID:-//Events | FID-Recht//NONSGML Events//EN
CALSCALE:GREGORIAN
X-ORIGINAL-URL:https://events.intrecht.de/termine/
X-WR-CALDESC:Events | FID-Recht - Events
BEGIN:VEVENT
UID:20200710T2329Z-1594423785.5238-EO-1089-1@172.16.200.141
STATUS:CONFIRMED
DTSTAMP:20260423T004428Z
CREATED:20200626T134410Z
LAST-MODIFIED:20200626T134410Z
DTSTART;VALUE=DATE:20200926
DTEND;VALUE=DATE:20200927
SUMMARY: 6. Ärzte- und Juristentag (Online-Konferenz)
DESCRIPTION: 26.9.2020\, Online https://www.bvou.net/ado-akademie-veranstal
 tungen-und-seminare/veranstaltungen-und-seminare/?vv_event_id=50897  
X-ALT-DESC;FMTTYPE=text/html: <p>26.9.2020\, Online</p><p><a href="https://
 www.bvou.net/ado-akademie-veranstaltungen-und-seminare/veranstaltungen-und-
 seminare/?vv_event_id=50897">https://www.bvou.net/ado-akademie-veranstaltun
 gen-und-seminare/veranstaltungen-und-seminare/?vv_event_id=50897</a></p><p>
  </p><p>[av_button label='iCal-Export' link='./feed/eo-events' link_target=
 '' size='small' position='center' label_display='' title_attr='' icon_selec
 t='yes' icon='ue85b' font='entypo-fontello' color='custom' custom_bg='#b512
 3e' custom_font='#ffffff' av_uid='' id='' custom_class='' admin_preview_bg=
 '']</p>
CATEGORIES:Recht interdisziplinär
LOCATION:Online
GEO:0.000000;0.000000
ORGANIZER;CN="ViFa-Recht":MAILTO:vifa-recht@sbb.spk-berlin.de
URL;VALUE=URI:https://events.intrecht.de/termine/termin/6-aerzte-und-jurist
 entag-online-konferenz/
END:VEVENT
BEGIN:VTIMEZONE
TZID:Europe/Berlin
BEGIN:DAYLIGHT
TZOFFSETFROM:+0100
TZOFFSETTO:+0200
DTSTART:20200329T010000
TZNAME:CEST
END:DAYLIGHT
END:VTIMEZONE
END:VCALENDAR
