BEGIN:VCALENDAR
VERSION:2.0
PRODID:-//Events | FID-Recht//NONSGML Events//EN
CALSCALE:GREGORIAN
X-ORIGINAL-URL:https://events.intrecht.de/termine/
X-WR-CALDESC:Events | FID-Recht - Events
BEGIN:VEVENT
UID:20200603T1418Z-1591193923.3362-EO-587-1@172.16.200.141
STATUS:CONFIRMED
DTSTAMP:20260423T034412Z
CREATED:20250218T084300Z
LAST-MODIFIED:20250507T100459Z
DTSTART;VALUE=DATE:20250619
DTEND;VALUE=DATE:20250622
SUMMARY: Sustainability Law: Comparative\, Interdisciplinary\, and Intradis
 ciplinary Perspectives (Hybrid Event)
DESCRIPTION: 19.-21.6.2025 / Online und Hamburg https://events.mpipriv.de/b
 ?p=young_sustainability_law_conference_2025  
X-ALT-DESC;FMTTYPE=text/html: <p>19.-21.6.2025 / Online und Hamburg</p><p><
 a href="https://events.mpipriv.de/b?p=young_sustainability_law_conference_2
 025">https://events.mpipriv.de/b?p=young_sustainability_law_conference_2025
 </a></p><p> </p><p>[av_button label='iCal-Export' link='./feed/eo-events' l
 ink_target='' size='small' position='center' label_display='' title_attr=''
  icon_select='yes' icon='ue85b' font='entypo-fontello' color='custom' custo
 m_bg='#b5123e' custom_font='#ffffff' av_uid='' id='' custom_class='' admin_
 preview_bg='']</p>
CATEGORIES:Recht interdisziplinär
LOCATION:Hybrid
GEO:0.000000;0.000000
ORGANIZER;CN="ViFa-Recht":MAILTO:vifa-recht@sbb.spk-berlin.de
URL;VALUE=URI:https://events.intrecht.de/termine/termin/4th-young-sustainab
 ility-law-conference-jnr-2025/
END:VEVENT
BEGIN:VTIMEZONE
TZID:Europe/Berlin
BEGIN:DAYLIGHT
TZOFFSETFROM:+0100
TZOFFSETTO:+0200
DTSTART:20250330T010000
TZNAME:CEST
END:DAYLIGHT
END:VTIMEZONE
END:VCALENDAR
