BEGIN:VCALENDAR
VERSION:2.0
PRODID:-//Events | FID-Recht//NONSGML Events//EN
CALSCALE:GREGORIAN
X-ORIGINAL-URL:https://events.intrecht.de/termine/
X-WR-CALDESC:Events | FID-Recht - Events
BEGIN:VEVENT
UID:20200603T1418Z-1591193923.3362-EO-587-1@172.16.200.141
STATUS:CONFIRMED
DTSTAMP:20260423T003136Z
CREATED:20250225T153219Z
LAST-MODIFIED:20250225T153219Z
DTSTART;VALUE=DATE:20250509
DTEND;VALUE=DATE:20250510
SUMMARY: 4th Max Planck Law | Tech | Society Graduate Student Symposium
DESCRIPTION: 9.5.2025 / Online https://law.mpg.de/event/4th-max-planck-law-
 tech-society-graduate-student-symposium/
X-ALT-DESC;FMTTYPE=text/html: <p>9.5.2025 / Online</p><p><a href="https://l
 aw.mpg.de/event/4th-max-planck-law-tech-society-graduate-student-symposium/
 ">https://law.mpg.de/event/4th-max-planck-law-tech-society-graduate-student
 -symposium/</a></p><p>[av_button label='iCal-Export' link='./feed/eo-events
 ' link_target='' size='small' position='center' label_display='' title_attr
 ='' icon_select='yes' icon='ue85b' font='entypo-fontello' color='custom' cu
 stom_bg='#b5123e' custom_font='#ffffff' av_uid='' id='' custom_class='' adm
 in_preview_bg='']</p>
CATEGORIES:Recht interdisziplinär
LOCATION:Online
GEO:0.000000;0.000000
ORGANIZER;CN="ViFa-Recht":MAILTO:vifa-recht@sbb.spk-berlin.de
URL;VALUE=URI:https://events.intrecht.de/termine/termin/4th-max-planck-law-
 tech-society-graduate-student-symposium/
END:VEVENT
BEGIN:VTIMEZONE
TZID:Europe/Berlin
BEGIN:DAYLIGHT
TZOFFSETFROM:+0100
TZOFFSETTO:+0200
DTSTART:20250330T010000
TZNAME:CEST
END:DAYLIGHT
END:VTIMEZONE
END:VCALENDAR
