BEGIN:VCALENDAR
VERSION:2.0
PRODID:-//Events | FID-Recht//NONSGML Events//EN
CALSCALE:GREGORIAN
X-ORIGINAL-URL:https://events.intrecht.de/termine/
X-WR-CALDESC:Events | FID-Recht - Events
BEGIN:VEVENT
UID:20230322T1310Z-1679490623.0372-EO-8054-1@172.16.200.151
STATUS:CONFIRMED
DTSTAMP:20260423T084805Z
CREATED:20230118T141131Z
LAST-MODIFIED:20230118T141131Z
DTSTART;VALUE=DATE:20231109
DTEND;VALUE=DATE:20231112
SUMMARY: 46. Umweltrechtliche Fachtagung der Gesellschaft für Umweltrecht
DESCRIPTION: 9.-11.11.2023 / Leipzig https://www.gesellschaft-fuer-umweltre
 cht.de/tagung/  
X-ALT-DESC;FMTTYPE=text/html: <p>9.-11.11.2023 / Leipzig</p><p><a href="htt
 ps://www.gesellschaft-fuer-umweltrecht.de/tagung/">https://www.gesellschaft
 -fuer-umweltrecht.de/tagung/</a></p><p> </p><p>[av_button label='iCal-Expor
 t' link='./feed/eo-events' link_target='' size='small' position='center' la
 bel_display='' title_attr='' icon_select='yes' icon='ue85b' font='entypo-fo
 ntello' color='custom' custom_bg='#b5123e' custom_font='#ffffff' av_uid='' 
 id='' custom_class='' admin_preview_bg='']</p>
CATEGORIES:Recht interdisziplinär
LOCATION:Inland
GEO:0.000000;0.000000
ORGANIZER;CN="ViFa-Recht":MAILTO:vifa-recht@sbb.spk-berlin.de
URL;VALUE=URI:https://events.intrecht.de/termine/termin/46-umweltrechtliche
 -fachtagung-der-gesellschaft-fuer-umweltrecht/
END:VEVENT
BEGIN:VTIMEZONE
TZID:Europe/Berlin
BEGIN:STANDARD
TZOFFSETFROM:+0200
TZOFFSETTO:+0100
DTSTART:20231029T010000
TZNAME:CET
END:STANDARD
END:VTIMEZONE
END:VCALENDAR
