BEGIN:VCALENDAR
VERSION:2.0
PRODID:-//Events | FID-Recht//NONSGML Events//EN
CALSCALE:GREGORIAN
X-ORIGINAL-URL:https://events.intrecht.de/termine/
X-WR-CALDESC:Events | FID-Recht - Events
BEGIN:VEVENT
UID:20220806T2310Z-1659827421.0893-EO-4567-1@172.16.200.151
STATUS:CONFIRMED
DTSTAMP:20260421T204934Z
CREATED:20220804T153641Z
LAST-MODIFIED:20220804T153641Z
DTSTART;VALUE=DATE:20220808
DTEND;VALUE=DATE:20220813
SUMMARY: 43. Rechtshistorikertag (Tagung)
DESCRIPTION: 8.-12.8.2022\, Zürich https://rechtshistorikertag2022.org/  
X-ALT-DESC;FMTTYPE=text/html: <p>8.-12.8.2022\, Zürich</p><p><a href="https
 ://rechtshistorikertag2022.org/">https://rechtshistorikertag2022.org/</a></
 p><p> </p><p>[av_button label='iCal-Export' link='./feed/eo-events' link_ta
 rget='' size='small' position='center' label_display='' title_attr='' icon_
 select='yes' icon='ue85b' font='entypo-fontello' color='custom' custom_bg='
 #b5123e' custom_font='#ffffff' av_uid='' id='' custom_class='' admin_previe
 w_bg='']</p>
CATEGORIES:Recht interdisziplinär
LOCATION:Ausland
GEO:0.000000;0.000000
ORGANIZER;CN="ViFa-Recht":MAILTO:vifa-recht@sbb.spk-berlin.de
URL;VALUE=URI:https://events.intrecht.de/termine/termin/43-rechtshistoriker
 tag-tagung/
END:VEVENT
BEGIN:VTIMEZONE
TZID:Europe/Berlin
BEGIN:DAYLIGHT
TZOFFSETFROM:+0100
TZOFFSETTO:+0200
DTSTART:20220327T010000
TZNAME:CEST
END:DAYLIGHT
END:VTIMEZONE
END:VCALENDAR
