BEGIN:VCALENDAR
VERSION:2.0
PRODID:-//Events | FID-Recht//NONSGML Events//EN
CALSCALE:GREGORIAN
X-ORIGINAL-URL:https://events.intrecht.de/termine/
X-WR-CALDESC:Events | FID-Recht - Events
BEGIN:VEVENT
UID:20210731T2256Z-1627772164.4268-EO-4096-1@172.16.200.141
STATUS:CONFIRMED
DTSTAMP:20260420T111858Z
CREATED:20210729T090057Z
LAST-MODIFIED:20210729T090057Z
DTSTART;VALUE=DATE:20210815
DTEND;VALUE=DATE:20210816
SUMMARY: 40th Annual Conference of the Australian and New Zealand Law and H
 istory Society (Tagung) (CfP)
DESCRIPTION: 3.-4.12.2021\, Sydney (Frist für Einreichungen: 15.8.2021) htt
 ps://shaunnaghdorsett.files.wordpress.com/2021/05/cfp-anzlhs-2021.pdf  
X-ALT-DESC;FMTTYPE=text/html: <p>3.-4.12.2021\, Sydney (Frist für Einreichu
 ngen: 15.8.2021)</p><p><a href="https://shaunnaghdorsett.files.wordpress.co
 m/2021/05/cfp-anzlhs-2021.pdf">https://shaunnaghdorsett.files.wordpress.com
 /2021/05/cfp-anzlhs-2021.pdf</a></p><p> </p><p>[av_button label='iCal-Expor
 t' link='./feed/eo-events' link_target='' size='small' position='center' la
 bel_display='' title_attr='' icon_select='yes' icon='ue85b' font='entypo-fo
 ntello' color='custom' custom_bg='#b5123e' custom_font='#ffffff' av_uid='' 
 id='' custom_class='' admin_preview_bg='']</p>
CATEGORIES:Recht interdisziplinär
LOCATION:Ausland
GEO:0.000000;0.000000
ORGANIZER;CN="ViFa-Recht":MAILTO:vifa-recht@sbb.spk-berlin.de
URL;VALUE=URI:https://events.intrecht.de/termine/termin/40th-annual-confere
 nce-of-the-australian-and-new-zealand-law-and-history-society-tagung-cfp/
END:VEVENT
BEGIN:VTIMEZONE
TZID:Europe/Berlin
BEGIN:DAYLIGHT
TZOFFSETFROM:+0100
TZOFFSETTO:+0200
DTSTART:20210328T010000
TZNAME:CEST
END:DAYLIGHT
END:VTIMEZONE
END:VCALENDAR
