BEGIN:VCALENDAR
VERSION:2.0
PRODID:-//Events | FID-Recht//NONSGML Events//EN
CALSCALE:GREGORIAN
X-ORIGINAL-URL:https://events.intrecht.de/termine/
X-WR-CALDESC:Events | FID-Recht - Events
BEGIN:VEVENT
UID:20220427T1504Z-1651071883.1109-EO-6748-1@172.16.200.141
STATUS:CONFIRMED
DTSTAMP:20260419T195139Z
CREATED:20220422T092229Z
LAST-MODIFIED:20220422T101008Z
DTSTART;VALUE=DATE:20220430
DTEND;VALUE=DATE:20220501
SUMMARY: Open Access in der Rechtswissenschaft – Stand und Perspektiven (4.
  jurOA Tagung) (CfP)
DESCRIPTION: 22.-23.9.2022\, Bern (Frist für Einreichungen: 30.4.2022) Open
  Access für die Rechtswissenschaft (juroa.de)  
X-ALT-DESC;FMTTYPE=text/html: <p>22.-23.9.2022\, Bern (Frist für Einreichun
 gen: 30.4.2022)</p><p><a href="https://www.juroa.de/#CfP">Open Access für d
 ie Rechtswissenschaft (juroa.de)</a></p><p> </p><p>[av_button label='iCal-E
 xport' link='./feed/eo-events' link_target='' size='small' position='center
 ' label_display='' title_attr='' icon_select='yes' icon='ue85b' font='entyp
 o-fontello' color='custom' custom_bg='#b5123e' custom_font='#ffffff' av_uid
 ='' id='' custom_class='' admin_preview_bg='']</p>
CATEGORIES:Recht interdisziplinär
LOCATION:Ausland
GEO:0.000000;0.000000
ORGANIZER;CN="ViFa-Recht":MAILTO:vifa-recht@sbb.spk-berlin.de
URL;VALUE=URI:https://events.intrecht.de/termine/termin/4-juroa-tagung-tagu
 ng-cfp/
END:VEVENT
BEGIN:VTIMEZONE
TZID:Europe/Berlin
BEGIN:DAYLIGHT
TZOFFSETFROM:+0100
TZOFFSETTO:+0200
DTSTART:20220327T010000
TZNAME:CEST
END:DAYLIGHT
END:VTIMEZONE
END:VCALENDAR
