BEGIN:VCALENDAR
VERSION:2.0
PRODID:-//Events | FID-Recht//NONSGML Events//EN
CALSCALE:GREGORIAN
X-ORIGINAL-URL:https://events.intrecht.de/termine/
X-WR-CALDESC:Events | FID-Recht - Events
BEGIN:VEVENT
UID:20200603T1418Z-1591193923.3362-EO-587-1@172.16.200.141
STATUS:CONFIRMED
DTSTAMP:20260422T105527Z
CREATED:20240207T103706Z
LAST-MODIFIED:20240207T103706Z
DTSTART;VALUE=DATE:20240426
DTEND;VALUE=DATE:20240427
SUMMARY: 3rd Max Planck Law | Tech | Society Graduate Student Symposium
DESCRIPTION: 26.4.2024 / Online (Einreichungsfrist: 1.3.2024) https://law.m
 pg.de/event/cfp-3rd-max-planck-law-tech-society-graduate-student-symposium/
 #register
X-ALT-DESC;FMTTYPE=text/html: <p>26.4.2024 / Online <strong>(Einreichungsfr
 ist: 1.3.2024)</strong></p><p><a href="https://law.mpg.de/event/cfp-3rd-max
 -planck-law-tech-society-graduate-student-symposium/#register">https://law.
 mpg.de/event/cfp-3rd-max-planck-law-tech-society-graduate-student-symposium
 /#register</a></p><p>[av_button label='iCal-Export' link='./feed/eo-events'
  link_target='' size='small' position='center' label_display='' title_attr=
 '' icon_select='yes' icon='ue85b' font='entypo-fontello' color='custom' cus
 tom_bg='#b5123e' custom_font='#ffffff' av_uid='' id='' custom_class='' admi
 n_preview_bg='']</p>
CATEGORIES:Recht interdisziplinär
LOCATION:Online
GEO:0.000000;0.000000
ORGANIZER;CN="ViFa-Recht":MAILTO:vifa-recht@sbb.spk-berlin.de
URL;VALUE=URI:https://events.intrecht.de/termine/termin/3rd-max-planck-law-
 tech-society-graduate-student-symposium/
END:VEVENT
BEGIN:VTIMEZONE
TZID:Europe/Berlin
BEGIN:DAYLIGHT
TZOFFSETFROM:+0100
TZOFFSETTO:+0200
DTSTART:20240331T010000
TZNAME:CEST
END:DAYLIGHT
END:VTIMEZONE
END:VCALENDAR
