BEGIN:VCALENDAR
VERSION:2.0
PRODID:-//Events | FID-Recht//NONSGML Events//EN
CALSCALE:GREGORIAN
X-ORIGINAL-URL:https://events.intrecht.de/termine/
X-WR-CALDESC:Events | FID-Recht - Events
BEGIN:VEVENT
UID:20200603T1418Z-1591193923.3362-EO-587-1@172.16.200.141
STATUS:CONFIRMED
DTSTAMP:20260425T133924Z
CREATED:20230620T140004Z
LAST-MODIFIED:20230620T140004Z
DTSTART;VALUE=DATE:20230904
DTEND;VALUE=DATE:20230910
SUMMARY: 3rd Kırımlı Dr. Aziz Bey International Humanitarian Law Competitio
 n & Advanced Summer School
DESCRIPTION: 4.-9.9.2023 / Istanbul (Anmeldefrist: 30.7.2023) CfA-KAB#3 (sq
 uarespace.com)
X-ALT-DESC;FMTTYPE=text/html: <p>4.-9.9.2023 / Istanbul <strong>(Anmeldefri
 st: 30.7.2023)</strong></p><p><a href="https://static1.squarespace.com/stat
 ic/635b904d5a98c8483151c4d3/t/648322cb2bb4e87141675e2e/1686315726520/KAB3_C
 fA.pdf">CfA-KAB#3 (squarespace.com)</a></p><p>[av_button label='iCal-Export
 ' link='./feed/eo-events' link_target='' size='small' position='center' lab
 el_display='' title_attr='' icon_select='yes' icon='ue85b' font='entypo-fon
 tello' color='custom' custom_bg='#b5123e' custom_font='#ffffff' av_uid='' i
 d='' custom_class='' admin_preview_bg='']</p>
CATEGORIES:Europäisches / Internationales Recht
LOCATION:Ausland
GEO:0.000000;0.000000
ORGANIZER;CN="ViFa-Recht":MAILTO:vifa-recht@sbb.spk-berlin.de
URL;VALUE=URI:https://events.intrecht.de/termine/termin/3rd-kirimli-dr-aziz
 -bey-international-humanitarian-law-competition-advanced-summer-school/
END:VEVENT
BEGIN:VTIMEZONE
TZID:Europe/Berlin
BEGIN:DAYLIGHT
TZOFFSETFROM:+0100
TZOFFSETTO:+0200
DTSTART:20230326T010000
TZNAME:CEST
END:DAYLIGHT
END:VTIMEZONE
END:VCALENDAR
