BEGIN:VCALENDAR
VERSION:2.0
PRODID:-//Events | FID-Recht//NONSGML Events//EN
CALSCALE:GREGORIAN
X-ORIGINAL-URL:https://events.intrecht.de/termine/
X-WR-CALDESC:Events | FID-Recht - Events
BEGIN:VEVENT
UID:20220610T2109Z-1654895371.6506-EO-4281-1@172.16.200.151
STATUS:CONFIRMED
DTSTAMP:20260419T150514Z
CREATED:20220609T173152Z
LAST-MODIFIED:20220609T173152Z
DTSTART;VALUE=DATE:20220915
DTEND;VALUE=DATE:20220917
SUMMARY: 39th EALE (European Association of Law and Economics) conference (
 Tagung)
DESCRIPTION: 15.-16.9.2022\, Lissabon General Information | EALE  
X-ALT-DESC;FMTTYPE=text/html: <p>15.-16.9.2022\, Lissabon</p><p><a href="ht
 tps://eale.org/conference/eale-2022-carcavelos-lisbon/general-information">
 General Information | EALE</a></p><p> </p><p>[av_button label='iCal-Export'
  link='./feed/eo-events' link_target='' size='small' position='center' labe
 l_display='' title_attr='' icon_select='yes' icon='ue85b' font='entypo-font
 ello' color='custom' custom_bg='#b5123e' custom_font='#ffffff' av_uid='' id
 ='' custom_class='' admin_preview_bg='']</p>
CATEGORIES:Recht interdisziplinär
LOCATION:Ausland
GEO:0.000000;0.000000
ORGANIZER;CN="ViFa-Recht":MAILTO:vifa-recht@sbb.spk-berlin.de
URL;VALUE=URI:https://events.intrecht.de/termine/termin/39th-eale-european-
 association-of-law-and-economics-conference-tagung/
END:VEVENT
BEGIN:VTIMEZONE
TZID:Europe/Berlin
BEGIN:DAYLIGHT
TZOFFSETFROM:+0100
TZOFFSETTO:+0200
DTSTART:20220327T010000
TZNAME:CEST
END:DAYLIGHT
END:VTIMEZONE
END:VCALENDAR
