BEGIN:VCALENDAR
VERSION:2.0
PRODID:-//Events | FID-Recht//NONSGML Events//EN
CALSCALE:GREGORIAN
X-ORIGINAL-URL:https://events.intrecht.de/termine/
X-WR-CALDESC:Events | FID-Recht - Events
BEGIN:VEVENT
UID:20200603T1418Z-1591193923.3362-EO-587-1@172.16.200.141
STATUS:CONFIRMED
DTSTAMP:20260426T050555Z
CREATED:20230807T080743Z
LAST-MODIFIED:20230807T080743Z
DTSTART;VALUE=DATE:20230913
DTEND;VALUE=DATE:20230916
SUMMARY: 32. Deutscher EDV-Gerichtstag: Digitaler Rechtsstaat
DESCRIPTION: 13.-15.9.2023 / Saarbrücken (Anmeldefrist: 7.9.2023) https://w
 ww.edvgt.de/32-deutscher-edv-gerichtstag-vom-13-15-september-2023/programm-
 vorl/
X-ALT-DESC;FMTTYPE=text/html: <p>13.-15.9.2023 / Saarbrücken<strong> (Anmel
 defrist: 7.9.2023)</strong></p><p><a href="https://www.edvgt.de/32-deutsche
 r-edv-gerichtstag-vom-13-15-september-2023/programm-vorl/">https://www.edvg
 t.de/32-deutscher-edv-gerichtstag-vom-13-15-september-2023/programm-vorl/</
 a></p><p>[av_button label='iCal-Export' link='./feed/eo-events' link_target
 ='' size='small' position='center' label_display='' title_attr='' icon_sele
 ct='yes' icon='ue85b' font='entypo-fontello' color='custom' custom_bg='#b51
 23e' custom_font='#ffffff' av_uid='' id='' custom_class='' admin_preview_bg
 ='']</p>
CATEGORIES:Recht interdisziplinär
LOCATION:Inland
GEO:0.000000;0.000000
ORGANIZER;CN="ViFa-Recht":MAILTO:vifa-recht@sbb.spk-berlin.de
URL;VALUE=URI:https://events.intrecht.de/termine/termin/32-deutscher-edv-ge
 richtstag-digitaler-rechtsstaat/
END:VEVENT
BEGIN:VTIMEZONE
TZID:Europe/Berlin
BEGIN:DAYLIGHT
TZOFFSETFROM:+0100
TZOFFSETTO:+0200
DTSTART:20230326T010000
TZNAME:CEST
END:DAYLIGHT
END:VTIMEZONE
END:VCALENDAR
