BEGIN:VCALENDAR
VERSION:2.0
PRODID:-//Events | FID-Recht//NONSGML Events//EN
CALSCALE:GREGORIAN
X-ORIGINAL-URL:https://events.intrecht.de/termine/
X-WR-CALDESC:Events | FID-Recht - Events
BEGIN:VEVENT
UID:20200706T1905Z-1594062349.7506-EO-1051-1@172.16.200.141
STATUS:CONFIRMED
DTSTAMP:20260422T212958Z
CREATED:20200622T142346Z
LAST-MODIFIED:20200622T142452Z
DTSTART;VALUE=DATE:20201012
DTEND;VALUE=DATE:20201015
SUMMARY: 2nd international Open Search Symposium (OSSYM 2020) (Konferenz)
DESCRIPTION: 12.-14.10.2020\, Genf / Online   2nd International Symposium o
 n Open Search\, 12-14 October 2020  
X-ALT-DESC;FMTTYPE=text/html: <p>12.-14.10.2020\, Genf / Online</p><p> </p>
 <p>https://opensearchfoundation.org/en/2nd-international-symposium-on-open-
 search-25-27-may-2020/</p><p> </p><p>[av_button label='iCal-Export' link='.
 /feed/eo-events' link_target='' size='small' position='center' label_displa
 y='' title_attr='' icon_select='yes' icon='ue85b' font='entypo-fontello' co
 lor='custom' custom_bg='#b5123e' custom_font='#ffffff' av_uid='' id='' cust
 om_class='' admin_preview_bg='']</p>
CATEGORIES:Recht interdisziplinär
LOCATION:Online
GEO:0.000000;0.000000
ORGANIZER;CN="ViFa-Recht":MAILTO:vifa-recht@sbb.spk-berlin.de
URL;VALUE=URI:https://events.intrecht.de/termine/termin/2nd-international-o
 pen-search-symposium-ossym-2020-konferenz/
END:VEVENT
BEGIN:VTIMEZONE
TZID:Europe/Berlin
BEGIN:DAYLIGHT
TZOFFSETFROM:+0100
TZOFFSETTO:+0200
DTSTART:20200329T010000
TZNAME:CEST
END:DAYLIGHT
END:VTIMEZONE
END:VCALENDAR
