BEGIN:VCALENDAR
VERSION:2.0
PRODID:-//Events | FID-Recht//NONSGML Events//EN
CALSCALE:GREGORIAN
X-ORIGINAL-URL:https://events.intrecht.de/termine/
X-WR-CALDESC:Events | FID-Recht - Events
BEGIN:VEVENT
UID:20200702T2137Z-1593725861.5566-EO-1054-1@172.16.200.141
STATUS:CONFIRMED
DTSTAMP:20260422T194018Z
CREATED:20200622T142916Z
LAST-MODIFIED:20200622T142916Z
DTSTART;VALUE=DATE:20200706
DTEND;VALUE=DATE:20200707
SUMMARY: 2nd international Open Search Symposium (OSSYM 2020) (Call)
DESCRIPTION: 12.-14.10.2020\, Genf / Online (Frist für Einreichungen: 6.7.2
 020)   Call for papers – 2nd international Open Search Symposium (OSSYM 202
 0) 2nd International Symposium on Open Search\, 12-14 October 2020  
X-ALT-DESC;FMTTYPE=text/html: <p>12.-14.10.2020\, Genf / Online (Frist für 
 Einreichungen: 6.7.2020)</p><p> </p><p>https://conflictoflaws.net/2020/call
 -for-papers-2nd-international-open-search-symposium-ossym-2020/</p><p>https
 ://opensearchfoundation.org/en/2nd-international-symposium-on-open-search-2
 5-27-may-2020/</p><p> </p><p>[av_button label='iCal-Export' link='./feed/eo
 -events' link_target='' size='small' position='center' label_display='' tit
 le_attr='' icon_select='yes' icon='ue85b' font='entypo-fontello' color='cus
 tom' custom_bg='#b5123e' custom_font='#ffffff' av_uid='' id='' custom_class
 ='' admin_preview_bg='']</p>
CATEGORIES:Recht interdisziplinär
LOCATION:Online
GEO:0.000000;0.000000
ORGANIZER;CN="ViFa-Recht":MAILTO:vifa-recht@sbb.spk-berlin.de
URL;VALUE=URI:https://events.intrecht.de/termine/termin/2nd-international-o
 pen-search-symposium-ossym-2020-call/
END:VEVENT
BEGIN:VTIMEZONE
TZID:Europe/Berlin
BEGIN:DAYLIGHT
TZOFFSETFROM:+0100
TZOFFSETTO:+0200
DTSTART:20200329T010000
TZNAME:CEST
END:DAYLIGHT
END:VTIMEZONE
END:VCALENDAR
