BEGIN:VCALENDAR
VERSION:2.0
PRODID:-//Events | FID-Recht//NONSGML Events//EN
CALSCALE:GREGORIAN
X-ORIGINAL-URL:https://events.intrecht.de/termine/
X-WR-CALDESC:Events | FID-Recht - Events
BEGIN:VEVENT
UID:20200602T0945Z-1591091115.9737-EO-599-1@172.16.200.141
STATUS:CONFIRMED
DTSTAMP:20260423T073101Z
CREATED:20260413T103048Z
LAST-MODIFIED:20260413T103048Z
DTSTART;VALUE=DATE:20260716
DTEND;VALUE=DATE:20260718
SUMMARY: 23rd Annual Conference of the German Law and Economics Association
  (GLEA)
DESCRIPTION: 16.-17.7.2026 / Freiburg https://csl.mpg.de/en/glea-conference
 -2026
X-ALT-DESC;FMTTYPE=text/html: <p>16.-17.7.2026 / Freiburg</p><p><a href="ht
 tps://csl.mpg.de/en/glea-conference-2026">https://csl.mpg.de/en/glea-confer
 ence-2026</a></p><p>[av_button label='iCal-Export' link='./feed/eo-events' 
 link_target='' size='small' position='center' label_display='' title_attr='
 ' icon_select='yes' icon='ue85b' font='entypo-fontello' color='custom' cust
 om_bg='#b5123e' custom_font='#ffffff' av_uid='' id='' custom_class='' admin
 _preview_bg='']</p>
CATEGORIES:Recht interdisziplinär
LOCATION:Inland
GEO:0.000000;0.000000
ORGANIZER;CN="ViFa-Recht":MAILTO:vifa-recht@sbb.spk-berlin.de
URL;VALUE=URI:https://events.intrecht.de/termine/termin/23rd-annual-confere
 nce-of-the-german-law-and-economics-association-glea/
END:VEVENT
BEGIN:VTIMEZONE
TZID:Europe/Berlin
BEGIN:DAYLIGHT
TZOFFSETFROM:+0100
TZOFFSETTO:+0200
DTSTART:20260329T010000
TZNAME:CEST
END:DAYLIGHT
END:VTIMEZONE
END:VCALENDAR
