BEGIN:VCALENDAR
VERSION:2.0
PRODID:-//Events | FID-Recht//NONSGML Events//EN
CALSCALE:GREGORIAN
X-ORIGINAL-URL:https://events.intrecht.de/termine/
X-WR-CALDESC:Events | FID-Recht - Events
BEGIN:VEVENT
UID:20200603T1418Z-1591193923.3362-EO-587-1@172.16.200.141
STATUS:CONFIRMED
DTSTAMP:20260426T030748Z
CREATED:20230330T095206Z
LAST-MODIFIED:20230907T083552Z
DTSTART;VALUE=DATE:20230501
DTEND;VALUE=DATE:20230503
SUMMARY: 22. Magglinger Rechtsinformatikseminar
DESCRIPTION: 1.-2.5.2023 / Magglingen https://www.ejpd.admin.ch/bj/de/home/
 staat/rechtsinformatik/tagungen/magglingen/2023.html  
X-ALT-DESC;FMTTYPE=text/html: <p>1.-2.5.2023 / Magglingen</p><p><a href="ht
 tps://www.ejpd.admin.ch/bj/de/home/staat/rechtsinformatik/tagungen/maggling
 en/2023.html">https://www.ejpd.admin.ch/bj/de/home/staat/rechtsinformatik/t
 agungen/magglingen/2023.html</a></p><p> </p><p>[av_button label='iCal-Expor
 t' link='./feed/eo-events' link_target='' size='small' position='center' la
 bel_display='' title_attr='' icon_select='yes' icon='ue85b' font='entypo-fo
 ntello' color='custom' custom_bg='#b5123e' custom_font='#ffffff' av_uid='' 
 id='' custom_class='' admin_preview_bg='']</p>
CATEGORIES:Recht interdisziplinär
LOCATION:Ausland
GEO:0.000000;0.000000
ORGANIZER;CN="ViFa-Recht":MAILTO:vifa-recht@sbb.spk-berlin.de
URL;VALUE=URI:https://events.intrecht.de/termine/termin/22-magglinger-recht
 sinformatikseminar/
END:VEVENT
BEGIN:VTIMEZONE
TZID:Europe/Berlin
BEGIN:DAYLIGHT
TZOFFSETFROM:+0100
TZOFFSETTO:+0200
DTSTART:20230326T010000
TZNAME:CEST
END:DAYLIGHT
END:VTIMEZONE
END:VCALENDAR
