BEGIN:VCALENDAR
VERSION:2.0
PRODID:-//Events | FID-Recht//NONSGML Events//EN
CALSCALE:GREGORIAN
X-ORIGINAL-URL:https://events.intrecht.de/termine/
X-WR-CALDESC:Events | FID-Recht - Events
BEGIN:VEVENT
UID:20200603T1418Z-1591193923.3362-EO-587-1@172.16.200.141
STATUS:CONFIRMED
DTSTAMP:20260423T084600Z
CREATED:20250429T152710Z
LAST-MODIFIED:20250429T152710Z
DTSTART;VALUE=DATE:20251024
DTEND;VALUE=DATE:20251026
SUMMARY: 2025 Conference on Empirical Legal Studies (CELS)
DESCRIPTION: 24.-25.10.2025 / Washington\, D.C. (Einreichungsfrist: 20.6.20
 25) https://www.elsblog.org/the_empirical_legal_studi/2025/04/cels-2025-cal
 l-for-papers.html
X-ALT-DESC;FMTTYPE=text/html: <p>24.-25.10.2025 / Washington\, D.C. <strong
 >(Einreichungsfrist: 20.6.2025)</strong></p><p><a href="https://www.elsblog
 .org/the_empirical_legal_studi/2025/04/cels-2025-call-for-papers.html">http
 s://www.elsblog.org/the_empirical_legal_studi/2025/04/cels-2025-call-for-pa
 pers.html</a></p><p>[av_button label='iCal-Export' link='./feed/eo-events' 
 link_target='' size='small' position='center' label_display='' title_attr='
 ' icon_select='yes' icon='ue85b' font='entypo-fontello' color='custom' cust
 om_bg='#b5123e' custom_font='#ffffff' av_uid='' id='' custom_class='' admin
 _preview_bg='']</p>
CATEGORIES:Recht interdisziplinär
LOCATION:Ausland
GEO:0.000000;0.000000
ORGANIZER;CN="ViFa-Recht":MAILTO:vifa-recht@sbb.spk-berlin.de
URL;VALUE=URI:https://events.intrecht.de/termine/termin/2025-conference-on-
 empirical-legal-studies-cels/
END:VEVENT
BEGIN:VTIMEZONE
TZID:Europe/Berlin
BEGIN:DAYLIGHT
TZOFFSETFROM:+0100
TZOFFSETTO:+0200
DTSTART:20250330T010000
TZNAME:CEST
END:DAYLIGHT
END:VTIMEZONE
END:VCALENDAR
