BEGIN:VCALENDAR
VERSION:2.0
PRODID:-//Events | FID-Recht//NONSGML Events//EN
CALSCALE:GREGORIAN
X-ORIGINAL-URL:https://events.intrecht.de/termine/
X-WR-CALDESC:Events | FID-Recht - Events
BEGIN:VEVENT
UID:20200603T1418Z-1591193923.3362-EO-587-1@172.16.200.141
STATUS:CONFIRMED
DTSTAMP:20260423T035035Z
CREATED:20241002T165311Z
LAST-MODIFIED:20241002T165311Z
DTSTART;VALUE=DATE:20241105
DTEND;VALUE=DATE:20241106
SUMMARY: 2024 Annual Conference of the Geneva Human Rights Platform
DESCRIPTION: 5.11.2024 / Genf https://www.geneva-academy.ch/event/all-event
 s/detail/471-2024-annual-conference-of-the-geneva-human-rights-platform
X-ALT-DESC;FMTTYPE=text/html: <p>5.11.2024 / Genf</p><p><a href="https://ww
 w.geneva-academy.ch/event/all-events/detail/471-2024-annual-conference-of-t
 he-geneva-human-rights-platform">https://www.geneva-academy.ch/event/all-ev
 ents/detail/471-2024-annual-conference-of-the-geneva-human-rights-platform<
 /a></p><p>[av_button label='iCal-Export' link='./feed/eo-events' link_targe
 t='' size='small' position='center' label_display='' title_attr='' icon_sel
 ect='yes' icon='ue85b' font='entypo-fontello' color='custom' custom_bg='#b5
 123e' custom_font='#ffffff' av_uid='' id='' custom_class='' admin_preview_b
 g='']</p>
CATEGORIES:Europäisches / Internationales Recht
LOCATION:Ausland
GEO:0.000000;0.000000
ORGANIZER;CN="ViFa-Recht":MAILTO:vifa-recht@sbb.spk-berlin.de
URL;VALUE=URI:https://events.intrecht.de/termine/termin/2024-annual-confere
 nce-of-the-geneva-human-rights-platform/
END:VEVENT
BEGIN:VTIMEZONE
TZID:Europe/Berlin
BEGIN:STANDARD
TZOFFSETFROM:+0200
TZOFFSETTO:+0100
DTSTART:20241027T010000
TZNAME:CET
END:STANDARD
END:VTIMEZONE
END:VCALENDAR
