BEGIN:VCALENDAR
VERSION:2.0
PRODID:-//Events | FID-Recht//NONSGML Events//EN
CALSCALE:GREGORIAN
X-ORIGINAL-URL:https://events.intrecht.de/termine/
X-WR-CALDESC:Events | FID-Recht - Events
BEGIN:VEVENT
UID:20200603T1418Z-1591193923.3362-EO-587-1@172.16.200.141
STATUS:CONFIRMED
DTSTAMP:20260425T151019Z
CREATED:20230620T135657Z
LAST-MODIFIED:20230620T135657Z
DTSTART;VALUE=DATE:20230711
DTEND;VALUE=DATE:20230715
SUMMARY: 2023 Roccella Summer School of International Law: Structural Chang
 es in International Law
DESCRIPTION: 11.-14.7.2023 / Roccella Jonica (the school is free and open t
 o everyone) https://roccellasummerschool.org/
X-ALT-DESC;FMTTYPE=text/html: <p>11.-14.7.2023 / Roccella Jonica <strong>(t
 he school is free and open to everyone)</strong></p><p><a href="https://roc
 cellasummerschool.org/">https://roccellasummerschool.org/</a></p><p>[av_but
 ton label='iCal-Export' link='./feed/eo-events' link_target='' size='small'
  position='center' label_display='' title_attr='' icon_select='yes' icon='u
 e85b' font='entypo-fontello' color='custom' custom_bg='#b5123e' custom_font
 ='#ffffff' av_uid='' id='' custom_class='' admin_preview_bg='']</p>
CATEGORIES:Europäisches / Internationales Recht
LOCATION:Ausland
GEO:0.000000;0.000000
ORGANIZER;CN="ViFa-Recht":MAILTO:vifa-recht@sbb.spk-berlin.de
URL;VALUE=URI:https://events.intrecht.de/termine/termin/2023-roccella-summe
 r-school-of-international-law-structural-changes-in-international-law/
END:VEVENT
BEGIN:VTIMEZONE
TZID:Europe/Berlin
BEGIN:DAYLIGHT
TZOFFSETFROM:+0100
TZOFFSETTO:+0200
DTSTART:20230326T010000
TZNAME:CEST
END:DAYLIGHT
END:VTIMEZONE
END:VCALENDAR
