BEGIN:VCALENDAR
VERSION:2.0
PRODID:-//Events | FID-Recht//NONSGML Events//EN
CALSCALE:GREGORIAN
X-ORIGINAL-URL:https://events.intrecht.de/termine/
X-WR-CALDESC:Events | FID-Recht - Events
BEGIN:VEVENT
UID:20200603T1418Z-1591193923.3362-EO-587-1@172.16.200.141
STATUS:CONFIRMED
DTSTAMP:20260426T013109Z
CREATED:20230628T092929Z
LAST-MODIFIED:20230628T092929Z
DTSTART;VALUE=DATE:20230915
DTEND;VALUE=DATE:20230917
SUMMARY: 2023 Journal of International Economic Law (JIEL) Junior Faculty F
 orum
DESCRIPTION: 15.-16.9.2023 / Online (Frist für Einreichungen: 14.7.2023) ht
 tps://ielp.worldtradelaw.net/2023/06/call-for-submissions-for-the-2023-jiel
 -junior-faculty-forum.html
X-ALT-DESC;FMTTYPE=text/html: <p>15.-16.9.2023 / Online <strong>(Frist für 
 Einreichungen: 14.7.2023)</strong></p><p><a href="https://ielp.worldtradela
 w.net/2023/06/call-for-submissions-for-the-2023-jiel-junior-faculty-forum.h
 tml">https://ielp.worldtradelaw.net/2023/06/call-for-submissions-for-the-20
 23-jiel-junior-faculty-forum.html</a></p><p>[av_button label='iCal-Export' 
 link='./feed/eo-events' link_target='' size='small' position='center' label
 _display='' title_attr='' icon_select='yes' icon='ue85b' font='entypo-fonte
 llo' color='custom' custom_bg='#b5123e' custom_font='#ffffff' av_uid='' id=
 '' custom_class='' admin_preview_bg='']</p>
CATEGORIES:Europäisches / Internationales Recht
LOCATION:Online
GEO:0.000000;0.000000
ORGANIZER;CN="ViFa-Recht":MAILTO:vifa-recht@sbb.spk-berlin.de
URL;VALUE=URI:https://events.intrecht.de/termine/termin/2023-journal-of-int
 ernational-economic-law-jiel-junior-faculty-forum/
END:VEVENT
BEGIN:VTIMEZONE
TZID:Europe/Berlin
BEGIN:DAYLIGHT
TZOFFSETFROM:+0100
TZOFFSETTO:+0200
DTSTART:20230326T010000
TZNAME:CEST
END:DAYLIGHT
END:VTIMEZONE
END:VCALENDAR
