BEGIN:VCALENDAR
VERSION:2.0
PRODID:-//Events | FID-Recht//NONSGML Events//EN
CALSCALE:GREGORIAN
X-ORIGINAL-URL:https://events.intrecht.de/termine/
X-WR-CALDESC:Events | FID-Recht - Events
BEGIN:VEVENT
UID:20201020T1044Z-1603190670.9379-EO-1860-1@172.16.200.141
STATUS:CONFIRMED
DTSTAMP:20260423T005838Z
CREATED:20201012T184031Z
LAST-MODIFIED:20201012T184121Z
DTSTART;VALUE=DATE:20201022
DTEND;VALUE=DATE:20201024
SUMMARY: 2020 BIICL Annual WTO Conference (Online-Konferenz)
DESCRIPTION: 22.-23.10.2020\, Online https://www.biicl.org/events/11432/the
 -2020-biicl-annual-wto-conference    
X-ALT-DESC;FMTTYPE=text/html: <p>22.-23.10.2020\, Online</p><p><a href="htt
 ps://www.biicl.org/events/11432/the-2020-biicl-annual-wto-conference">https
 ://www.biicl.org/events/11432/the-2020-biicl-annual-wto-conference</a></p><
 p> </p><p> </p><p>[av_button label='iCal-Export' link='./feed/eo-events' li
 nk_target='' size='small' position='center' label_display='' title_attr='' 
 icon_select='yes' icon='ue85b' font='entypo-fontello' color='custom' custom
 _bg='#b5123e' custom_font='#ffffff' av_uid='' id='' custom_class='' admin_p
 review_bg='']</p>
CATEGORIES:Europäisches / Internationales Recht
LOCATION:Online
GEO:0.000000;0.000000
ORGANIZER;CN="ViFa-Recht":MAILTO:vifa-recht@sbb.spk-berlin.de
URL;VALUE=URI:https://events.intrecht.de/termine/termin/2020-biicl-annual-w
 to-conference-online-konferenz/
END:VEVENT
BEGIN:VTIMEZONE
TZID:Europe/Berlin
BEGIN:DAYLIGHT
TZOFFSETFROM:+0100
TZOFFSETTO:+0200
DTSTART:20200329T010000
TZNAME:CEST
END:DAYLIGHT
END:VTIMEZONE
END:VCALENDAR
