BEGIN:VCALENDAR
VERSION:2.0
PRODID:-//Events | FID-Recht//NONSGML Events//EN
CALSCALE:GREGORIAN
X-ORIGINAL-URL:https://events.intrecht.de/termine/
X-WR-CALDESC:Events | FID-Recht - Events
BEGIN:VEVENT
UID:20201005T2102Z-1601931747.6458-EO-1706-1@172.16.200.141
STATUS:CONFIRMED
DTSTAMP:20260421T102830Z
CREATED:20201002T131638Z
LAST-MODIFIED:20201002T131638Z
DTSTART;TZID=Europe/Berlin:20200921T090000
DTEND;TZID=Europe/Berlin:20200921T090000
SUMMARY: 2000 – 2020. 20 Jahre Lost Art im Spannungsfeld zwischen Recht und
  Ethik (Vortrag von Michael Franz) (Online-Vortrag)
DESCRIPTION: 21.9.2020\, Online https://www.kulturgutverluste.de/Content/02
 _Aktuelles/DE/Termine/2020/2020-09-21_Kolloquium-Michael-Franz.html?nn=1007
 20  
X-ALT-DESC;FMTTYPE=text/html: <p>21.9.2020\, Online</p><p><a href="https://
 www.kulturgutverluste.de/Content/02_Aktuelles/DE/Termine/2020/2020-09-21_Ko
 lloquium-Michael-Franz.html?nn=100720">https://www.kulturgutverluste.de/Con
 tent/02_Aktuelles/DE/Termine/2020/2020-09-21_Kolloquium-Michael-Franz.html?
 nn=100720</a></p><p> </p><p>[av_button label='iCal-Export' link='./feed/eo-
 events' link_target='' size='small' position='center' label_display='' titl
 e_attr='' icon_select='yes' icon='ue85b' font='entypo-fontello' color='cust
 om' custom_bg='#b5123e' custom_font='#ffffff' av_uid='' id='' custom_class=
 '' admin_preview_bg='']</p>
CATEGORIES:Recht interdisziplinär
LOCATION:Online
GEO:0.000000;0.000000
ORGANIZER;CN="ViFa-Recht":MAILTO:vifa-recht@sbb.spk-berlin.de
URL;VALUE=URI:https://events.intrecht.de/termine/termin/2000-2020-20-jahre-
 lost-art-im-spannungsfeld-zwischen-recht-und-ethik-vortrag-von-michael-fran
 z-online-vortrag/
END:VEVENT
BEGIN:VTIMEZONE
TZID:Europe/Berlin
BEGIN:DAYLIGHT
TZOFFSETFROM:+0100
TZOFFSETTO:+0200
DTSTART:20200329T010000
TZNAME:CEST
END:DAYLIGHT
END:VTIMEZONE
END:VCALENDAR
