BEGIN:VCALENDAR
VERSION:2.0
PRODID:-//Events | FID-Recht//NONSGML Events//EN
CALSCALE:GREGORIAN
X-ORIGINAL-URL:https://events.intrecht.de/termine/
X-WR-CALDESC:Events | FID-Recht - Events
BEGIN:VEVENT
UID:20220903T1745Z-1662227124.8085-EO-5322-1@172.16.200.151
STATUS:CONFIRMED
DTSTAMP:20260420T111454Z
CREATED:20220901T095840Z
LAST-MODIFIED:20220901T100406Z
DTSTART;VALUE=DATE:20220915
DTEND;VALUE=DATE:20220918
SUMMARY: 1st Münster PhD Conference on Recent Challenges in International a
 nd Comparative Public Law (Online-Tagung)
DESCRIPTION: 15.-17.9.2022\, Online 1st Münster PhD Conference on Recent Ch
 allenges in International and Comparative Public Law – Völkerrechtsblog (vo
 elkerrechtsblog.org)  
X-ALT-DESC;FMTTYPE=text/html: <p>15.-17.9.2022\, Online</p><p><a href="http
 s://voelkerrechtsblog.org/events/1st-muenster-phd-conference-on-recent-chal
 lenges-in-international-and-comparative-public-law/">1st Münster PhD Confer
 ence on Recent Challenges in International and Comparative Public Law - Völ
 kerrechtsblog (voelkerrechtsblog.org)</a></p><p> </p><p>[av_button label='i
 Cal-Export' link='./feed/eo-events' link_target='' size='small' position='c
 enter' label_display='' title_attr='' icon_select='yes' icon='ue85b' font='
 entypo-fontello' color='custom' custom_bg='#b5123e' custom_font='#ffffff' a
 v_uid='' id='' custom_class='' admin_preview_bg='']</p>
CATEGORIES:Europäisches / Internationales Recht
LOCATION:Online
GEO:0.000000;0.000000
ORGANIZER;CN="ViFa-Recht":MAILTO:vifa-recht@sbb.spk-berlin.de
URL;VALUE=URI:https://events.intrecht.de/termine/termin/1st-muenster-phd-co
 nference-on-recent-challenges-in-international-and-comparative-public-law-o
 nline-tagung-2/
END:VEVENT
BEGIN:VTIMEZONE
TZID:Europe/Berlin
BEGIN:DAYLIGHT
TZOFFSETFROM:+0100
TZOFFSETTO:+0200
DTSTART:20220327T010000
TZNAME:CEST
END:DAYLIGHT
END:VTIMEZONE
END:VCALENDAR
