BEGIN:VCALENDAR
VERSION:2.0
PRODID:-//Events | FID-Recht//NONSGML Events//EN
CALSCALE:GREGORIAN
X-ORIGINAL-URL:https://events.intrecht.de/termine/
X-WR-CALDESC:Events | FID-Recht - Events
BEGIN:VEVENT
UID:20211206T1735Z-1638812118.4868-EO-5409-1@172.16.200.141
STATUS:CONFIRMED
DTSTAMP:20260425T162952Z
CREATED:20211130T204245Z
LAST-MODIFIED:20211130T204245Z
DTSTART;VALUE=DATE:20211213
DTEND;VALUE=DATE:20211214
SUMMARY: 19th Annual International Conference on Law (Tagung) (CfP)
DESCRIPTION: 11.-14.7.2022\, Athens (Frist für Einreichungen: 13.12.2021) P
 OS-LAW.pdf (atiner.gr)  
X-ALT-DESC;FMTTYPE=text/html: <p>11.-14.7.2022\, Athens (Frist für Einreich
 ungen: 13.12.2021)</p><p><a href="https://atiner.gr/posters/POS-LAW.pdf">PO
 S-LAW.pdf (atiner.gr)</a></p><p> </p><p>[av_button label='iCal-Export' link
 ='./feed/eo-events' link_target='' size='small' position='center' label_dis
 play='' title_attr='' icon_select='yes' icon='ue85b' font='entypo-fontello'
  color='custom' custom_bg='#b5123e' custom_font='#ffffff' av_uid='' id='' c
 ustom_class='' admin_preview_bg='']</p>
CATEGORIES:Europäisches / Internationales Recht
LOCATION:Ausland
GEO:0.000000;0.000000
ORGANIZER;CN="ViFa-Recht":MAILTO:vifa-recht@sbb.spk-berlin.de
URL;VALUE=URI:https://events.intrecht.de/termine/termin/19th-annual-interna
 tional-conference-on-law-tagung-cfp/
END:VEVENT
BEGIN:VTIMEZONE
TZID:Europe/Berlin
BEGIN:STANDARD
TZOFFSETFROM:+0200
TZOFFSETTO:+0100
DTSTART:20211031T010000
TZNAME:CET
END:STANDARD
END:VTIMEZONE
END:VCALENDAR
