BEGIN:VCALENDAR
VERSION:2.0
PRODID:-//Events | FID-Recht//NONSGML Events//EN
CALSCALE:GREGORIAN
X-ORIGINAL-URL:https://events.intrecht.de/termine/
X-WR-CALDESC:Events | FID-Recht - Events
BEGIN:VEVENT
UID:20200602T0945Z-1591091115.9737-EO-599-1@172.16.200.141
STATUS:CONFIRMED
DTSTAMP:20260423T003432Z
CREATED:20251029T094940Z
LAST-MODIFIED:20251029T094940Z
DTSTART;VALUE=DATE:20251113
DTEND;VALUE=DATE:20251116
SUMMARY: 1985–2025: 40 Years of Research on Japanese Law at the MPI. Time t
 o Add New Voices (Hybrid Event)
DESCRIPTION: 13.-15.11.2025 / Online und Hamburg https://events.mpipriv.de/
 b?p=1985-2025_40_years_of_research_on_japanese_law_at_the_mpi
X-ALT-DESC;FMTTYPE=text/html: <p>13.-15.11.2025 / Online und Hamburg</p><p>
 <a href="https://events.mpipriv.de/b?p=1985-2025_40_years_of_research_on_ja
 panese_law_at_the_mpi">https://events.mpipriv.de/b?p=1985-2025_40_years_of_
 research_on_japanese_law_at_the_mpi</a></p><p>[av_button label='iCal-Export
 ' link='./feed/eo-events' link_target='' size='small' position='center' lab
 el_display='' title_attr='' icon_select='yes' icon='ue85b' font='entypo-fon
 tello' color='custom' custom_bg='#b5123e' custom_font='#ffffff' av_uid='' i
 d='' custom_class='' admin_preview_bg='']</p>
CATEGORIES:Zivilrecht
LOCATION:Hybrid
GEO:0.000000;0.000000
ORGANIZER;CN="ViFa-Recht":MAILTO:vifa-recht@sbb.spk-berlin.de
URL;VALUE=URI:https://events.intrecht.de/termine/termin/1985-2025-40-years-
 of-research-on-japanese-law-at-the-mpi-time-to-add-new-voices-hybrid-event/
END:VEVENT
BEGIN:VTIMEZONE
TZID:Europe/Berlin
BEGIN:STANDARD
TZOFFSETFROM:+0200
TZOFFSETTO:+0100
DTSTART:20251026T010000
TZNAME:CET
END:STANDARD
END:VTIMEZONE
END:VCALENDAR
