BEGIN:VCALENDAR
VERSION:2.0
PRODID:-//Events | FID-Recht//NONSGML Events//EN
CALSCALE:GREGORIAN
X-ORIGINAL-URL:https://events.intrecht.de/termine/
X-WR-CALDESC:Events | FID-Recht - Events
BEGIN:VEVENT
UID:20210218T1651Z-1613667066.7069-EO-3428-1@172.16.200.141
STATUS:CONFIRMED
DTSTAMP:20260419T145606Z
CREATED:20210202T152737Z
LAST-MODIFIED:20210202T152737Z
DTSTART;VALUE=DATE:20210621
DTEND;VALUE=DATE:20210626
SUMMARY: 18th International Conference on Artificial Intelligence and Law (
 ICAIL 2021) (Online-Konferenz)
DESCRIPTION: 21.-25.6.2021\, Online (Frist für Einreichungen: 1.3.2021) htt
 ps://icail.lawgorithm.com.br/  
X-ALT-DESC;FMTTYPE=text/html: <p>21.-25.6.2021\, Online (Frist für Einreich
 ungen: 1.3.2021)</p><p><a href="https://icail.lawgorithm.com.br/">https://i
 cail.lawgorithm.com.br/</a></p><p> </p><p>[av_button label='iCal-Export' li
 nk='./feed/eo-events' link_target='' size='small' position='center' label_d
 isplay='' title_attr='' icon_select='yes' icon='ue85b' font='entypo-fontell
 o' color='custom' custom_bg='#b5123e' custom_font='#ffffff' av_uid='' id=''
  custom_class='' admin_preview_bg='']</p>
CATEGORIES:Recht interdisziplinär
LOCATION:Online
GEO:0.000000;0.000000
ORGANIZER;CN="ViFa-Recht":MAILTO:vifa-recht@sbb.spk-berlin.de
URL;VALUE=URI:https://events.intrecht.de/termine/termin/18th-international-
 conference-on-artificial-intelligence-and-law-icail-2021-online-konferenz/
END:VEVENT
BEGIN:VTIMEZONE
TZID:Europe/Berlin
BEGIN:DAYLIGHT
TZOFFSETFROM:+0100
TZOFFSETTO:+0200
DTSTART:20210328T010000
TZNAME:CEST
END:DAYLIGHT
END:VTIMEZONE
END:VCALENDAR
