BEGIN:VCALENDAR
VERSION:2.0
PRODID:-//Events | FID-Recht//NONSGML Events//EN
CALSCALE:GREGORIAN
X-ORIGINAL-URL:https://events.intrecht.de/termine/
X-WR-CALDESC:Events | FID-Recht - Events
BEGIN:VEVENT
UID:20200603T1418Z-1591193923.3362-EO-587-1@172.16.200.141
STATUS:CONFIRMED
DTSTAMP:20260421T200930Z
CREATED:20230821T133234Z
LAST-MODIFIED:20230821T133234Z
DTSTART;VALUE=DATE:20231218
DTEND;VALUE=DATE:20231220
SUMMARY: 18th Annual Minerva Conference on International Humanitarian Law
DESCRIPTION: 18.-19.12.2023 / Jerusalem (Frist für Einreichungen: 15.9.2023
 ) https://en.minervacenter.huji.ac.il/upcoming-events
X-ALT-DESC;FMTTYPE=text/html: <p>18.-19.12.2023 / Jerusalem <strong>(Frist 
 für Einreichungen: 15.9.2023)</strong></p><p><a href="https://en.minervacen
 ter.huji.ac.il/upcoming-events">https://en.minervacenter.huji.ac.il/upcomin
 g-events</a></p><p>[av_button label='iCal-Export' link='./feed/eo-events' l
 ink_target='' size='small' position='center' label_display='' title_attr=''
  icon_select='yes' icon='ue85b' font='entypo-fontello' color='custom' custo
 m_bg='#b5123e' custom_font='#ffffff' av_uid='' id='' custom_class='' admin_
 preview_bg='']</p>
CATEGORIES:Europäisches / Internationales Recht
LOCATION:Ausland
GEO:0.000000;0.000000
ORGANIZER;CN="ViFa-Recht":MAILTO:vifa-recht@sbb.spk-berlin.de
URL;VALUE=URI:https://events.intrecht.de/termine/termin/18th-annual-minerva
 -conference-on-international-humanitarian-law/
END:VEVENT
BEGIN:VTIMEZONE
TZID:Europe/Berlin
BEGIN:STANDARD
TZOFFSETFROM:+0200
TZOFFSETTO:+0100
DTSTART:20231029T010000
TZNAME:CET
END:STANDARD
END:VTIMEZONE
END:VCALENDAR
