BEGIN:VCALENDAR
VERSION:2.0
PRODID:-//Events | FID-Recht//NONSGML Events//EN
CALSCALE:GREGORIAN
X-ORIGINAL-URL:https://events.intrecht.de/termine/
X-WR-CALDESC:Events | FID-Recht - Events
BEGIN:VEVENT
UID:20200603T1418Z-1591193923.3362-EO-587-1@172.16.200.141
STATUS:CONFIRMED
DTSTAMP:20260425T234600Z
CREATED:20230613T140330Z
LAST-MODIFIED:20230613T140330Z
DTSTART;VALUE=DATE:20230920
DTEND;VALUE=DATE:20230924
SUMMARY: 18. Forum für Täter-Opfer-Ausgleich & Restorative Justice
DESCRIPTION: 20.-23.9.2023 / Mannheim https://www.toa-servicebuero.de/toa-f
 orum
X-ALT-DESC;FMTTYPE=text/html: <p>20.-23.9.2023 / Mannheim</p><p><a href="ht
 tps://www.toa-servicebuero.de/toa-forum">https://www.toa-servicebuero.de/to
 a-forum</a></p><p>[av_button label='iCal-Export' link='./feed/eo-events' li
 nk_target='' size='small' position='center' label_display='' title_attr='' 
 icon_select='yes' icon='ue85b' font='entypo-fontello' color='custom' custom
 _bg='#b5123e' custom_font='#ffffff' av_uid='' id='' custom_class='' admin_p
 review_bg='']</p>
CATEGORIES:Strafrecht
LOCATION:Inland
GEO:0.000000;0.000000
ORGANIZER;CN="ViFa-Recht":MAILTO:vifa-recht@sbb.spk-berlin.de
URL;VALUE=URI:https://events.intrecht.de/termine/termin/18-forum-fuer-taete
 r-opfer-ausgleich-restorative-justice/
END:VEVENT
BEGIN:VTIMEZONE
TZID:Europe/Berlin
BEGIN:DAYLIGHT
TZOFFSETFROM:+0100
TZOFFSETTO:+0200
DTSTART:20230326T010000
TZNAME:CEST
END:DAYLIGHT
END:VTIMEZONE
END:VCALENDAR
