BEGIN:VCALENDAR
VERSION:2.0
PRODID:-//Events | FID-Recht//NONSGML Events//EN
CALSCALE:GREGORIAN
X-ORIGINAL-URL:https://events.intrecht.de/termine/
X-WR-CALDESC:Events | FID-Recht - Events
BEGIN:VEVENT
UID:20211029T1535Z-1635521713.809-EO-5034-1@172.16.200.141
STATUS:CONFIRMED
DTSTAMP:20260425T151013Z
CREATED:20211028T161635Z
LAST-MODIFIED:20211028T161635Z
DTSTART;VALUE=DATE:20211030
DTEND;VALUE=DATE:20211030
SUMMARY: 15th Annual Conference on Empirical Legal Studies (Online-Tagung) 
 (cfP)
DESCRIPTION: 18.-19.3.2022\, Online (verlängerte Frist für Einreichungen: 3
 1.10.2021) Front page | CELS2020 | 15th Annual Conference on Empirical Lega
 l Studies (utoronto.ca)  
X-ALT-DESC;FMTTYPE=text/html: <p>18.-19.3.2022\, Online (verlängerte Frist 
 für Einreichungen: 31.10.2021)</p><p><a href="https://cels2020.law.utoronto
 .ca/">Front page | CELS2020 | 15th Annual Conference on Empirical Legal Stu
 dies (utoronto.ca)</a></p><p> </p><p>[av_button label='iCal-Export' link='.
 /feed/eo-events' link_target='' size='small' position='center' label_displa
 y='' title_attr='' icon_select='yes' icon='ue85b' font='entypo-fontello' co
 lor='custom' custom_bg='#b5123e' custom_font='#ffffff' av_uid='' id='' cust
 om_class='' admin_preview_bg='']</p>
CATEGORIES:Recht interdisziplinär
LOCATION:Online
GEO:0.000000;0.000000
ORGANIZER;CN="ViFa-Recht":MAILTO:vifa-recht@sbb.spk-berlin.de
URL;VALUE=URI:https://events.intrecht.de/termine/termin/15th-annual-confere
 nce-on-empirical-legal-studies-online-tagung-cfp/
END:VEVENT
BEGIN:VTIMEZONE
TZID:Europe/Berlin
BEGIN:DAYLIGHT
TZOFFSETFROM:+0200
TZOFFSETTO:+0200
DTSTART:20210328T010000
TZNAME:CEST
END:DAYLIGHT
END:VTIMEZONE
END:VCALENDAR
