BEGIN:VCALENDAR
VERSION:2.0
PRODID:-//Events | FID-Recht//NONSGML Events//EN
CALSCALE:GREGORIAN
X-ORIGINAL-URL:https://events.intrecht.de/termine/
X-WR-CALDESC:Events | FID-Recht - Events
BEGIN:VEVENT
UID:20200603T1418Z-1591193923.3362-EO-587-1@172.16.200.141
STATUS:CONFIRMED
DTSTAMP:20260426T050714Z
CREATED:20230626T131848Z
LAST-MODIFIED:20230626T131848Z
DTSTART;VALUE=DATE:20230925
DTEND;VALUE=DATE:20230927
SUMMARY: 15. Speyerer Europarechtstage: Aktuelle Fragen des Europäischen Be
 ihilferechts
DESCRIPTION: 25.-26.9.2023 / Online und Speyer https://s3.eu-central-1.amaz
 onaws.com/images.itemkg.de/588/Course/588-I-4274641.pdf
X-ALT-DESC;FMTTYPE=text/html: <p>25.-26.9.2023 / Online und Speyer</p><p><a
  href="https://s3.eu-central-1.amazonaws.com/images.itemkg.de/588/Course/58
 8-I-4274641.pdf">https://s3.eu-central-1.amazonaws.com/images.itemkg.de/588
 /Course/588-I-4274641.pdf</a></p><p>[av_button label='iCal-Export' link='./
 feed/eo-events' link_target='' size='small' position='center' label_display
 ='' title_attr='' icon_select='yes' icon='ue85b' font='entypo-fontello' col
 or='custom' custom_bg='#b5123e' custom_font='#ffffff' av_uid='' id='' custo
 m_class='' admin_preview_bg='']</p>
CATEGORIES:Europäisches / Internationales Recht
LOCATION:Online
GEO:0.000000;0.000000
ORGANIZER;CN="ViFa-Recht":MAILTO:vifa-recht@sbb.spk-berlin.de
URL;VALUE=URI:https://events.intrecht.de/termine/termin/15-speyerer-europar
 echtstage-aktuelle-fragen-des-europaeischen-beihilferechts/
END:VEVENT
BEGIN:VTIMEZONE
TZID:Europe/Berlin
BEGIN:DAYLIGHT
TZOFFSETFROM:+0100
TZOFFSETTO:+0200
DTSTART:20230326T010000
TZNAME:CEST
END:DAYLIGHT
END:VTIMEZONE
END:VCALENDAR
