BEGIN:VCALENDAR
VERSION:2.0
PRODID:-//Events | FID-Recht//NONSGML Events//EN
CALSCALE:GREGORIAN
X-ORIGINAL-URL:https://events.intrecht.de/termine/
X-WR-CALDESC:Events | FID-Recht - Events
BEGIN:VEVENT
UID:20200603T1418Z-1591193923.3362-EO-587-1@172.16.200.141
STATUS:CONFIRMED
DTSTAMP:20260426T011905Z
CREATED:20230718T145418Z
LAST-MODIFIED:20230718T145418Z
DTSTART;VALUE=DATE:20231106
DTEND;VALUE=DATE:20231109
SUMMARY: 14th International Conference of National Human Rights Institution
 s: Torture and Other Ill-treatment: The Role of National Human Rights Insti
 tutions (NHRIs)
DESCRIPTION: 6.-8.11.2023 / Kopenhagen https://ganhri.org/14th-internationa
 l-conference/
X-ALT-DESC;FMTTYPE=text/html: <p>6.-8.11.2023 / Kopenhagen</p><p><a href="h
 ttps://ganhri.org/14th-international-conference/">https://ganhri.org/14th-i
 nternational-conference/</a></p><p>[av_button label='iCal-Export' link='./f
 eed/eo-events' link_target='' size='small' position='center' label_display=
 '' title_attr='' icon_select='yes' icon='ue85b' font='entypo-fontello' colo
 r='custom' custom_bg='#b5123e' custom_font='#ffffff' av_uid='' id='' custom
 _class='' admin_preview_bg='']</p>
CATEGORIES:Europäisches / Internationales Recht
LOCATION:Ausland
GEO:0.000000;0.000000
ORGANIZER;CN="ViFa-Recht":MAILTO:vifa-recht@sbb.spk-berlin.de
URL;VALUE=URI:https://events.intrecht.de/termine/termin/14th-international-
 conference-of-national-human-rights-institutions-torture-and-other-ill-trea
 tment-the-role-of-national-human-rights-institutions-nhris/
END:VEVENT
BEGIN:VTIMEZONE
TZID:Europe/Berlin
BEGIN:STANDARD
TZOFFSETFROM:+0200
TZOFFSETTO:+0100
DTSTART:20231029T010000
TZNAME:CET
END:STANDARD
END:VTIMEZONE
END:VCALENDAR
