BEGIN:VCALENDAR
VERSION:2.0
PRODID:-//Events | FID-Recht//NONSGML Events//EN
CALSCALE:GREGORIAN
X-ORIGINAL-URL:https://events.intrecht.de/termine/
X-WR-CALDESC:Events | FID-Recht - Events
BEGIN:VEVENT
UID:20200603T1418Z-1591193923.3362-EO-587-1@172.16.200.141
STATUS:CONFIRMED
DTSTAMP:20260425T164756Z
CREATED:20230620T135305Z
LAST-MODIFIED:20230620T135305Z
DTSTART;VALUE=DATE:20230922
DTEND;VALUE=DATE:20230925
SUMMARY: 125. Generalversammlung der Görres-Gesellschaft zur Pflege der Wis
 senschaft
DESCRIPTION: 22.-24.9.2023 / Tübingen (Sektion für Rechts- und Staatswissen
 schaft Freitag\, 22.9.2023: „Zuwanderung und Zugehörigkeit – Entwicklungen 
 im Migrations- und Staatsangehörigkeitsrecht“) https://www.goerres-gesellsc
 haft.de/gesellschaft/termine/termin/125-generalversammlung-der-goerres-gese
 llschaft-in-tuebingen.html
X-ALT-DESC;FMTTYPE=text/html: <p>22.-24.9.2023 / Tübingen <strong>(Sektion 
 für Rechts- und Staatswissenschaft Freitag\, 22.9.2023: „Zuwanderung und Zu
 gehörigkeit – Entwicklungen im Migrations- und Staatsangehörigkeitsrecht“)<
 /strong></p><p><a href="https://www.goerres-gesellschaft.de/gesellschaft/te
 rmine/termin/125-generalversammlung-der-goerres-gesellschaft-in-tuebingen.h
 tml">https://www.goerres-gesellschaft.de/gesellschaft/termine/termin/125-ge
 neralversammlung-der-goerres-gesellschaft-in-tuebingen.html</a></p><p>[av_b
 utton label='iCal-Export' link='./feed/eo-events' link_target='' size='smal
 l' position='center' label_display='' title_attr='' icon_select='yes' icon=
 'ue85b' font='entypo-fontello' color='custom' custom_bg='#b5123e' custom_fo
 nt='#ffffff' av_uid='' id='' custom_class='' admin_preview_bg='']</p>
CATEGORIES:Öffentliches Recht
LOCATION:Inland
GEO:0.000000;0.000000
ORGANIZER;CN="ViFa-Recht":MAILTO:vifa-recht@sbb.spk-berlin.de
URL;VALUE=URI:https://events.intrecht.de/termine/termin/125-generalversamml
 ung-der-goerres-gesellschaft-zur-pflege-der-wissenschaft/
END:VEVENT
BEGIN:VTIMEZONE
TZID:Europe/Berlin
BEGIN:DAYLIGHT
TZOFFSETFROM:+0100
TZOFFSETTO:+0200
DTSTART:20230326T010000
TZNAME:CEST
END:DAYLIGHT
END:VTIMEZONE
END:VCALENDAR
