BEGIN:VCALENDAR
VERSION:2.0
PRODID:-//Events | FID-Recht//NONSGML Events//EN
CALSCALE:GREGORIAN
X-ORIGINAL-URL:https://events.intrecht.de/termine/
X-WR-CALDESC:Events | FID-Recht - Events
BEGIN:VEVENT
UID:20200603T1418Z-1591193923.3362-EO-587-1@172.16.200.141
STATUS:CONFIRMED
DTSTAMP:20260425T220106Z
CREATED:20230710T102659Z
LAST-MODIFIED:20230710T102727Z
DTSTART;VALUE=DATE:20231027
DTEND;VALUE=DATE:20231030
SUMMARY: 12. UN-Forschungskolloquium: Back to the Future: Revisiting the Pa
 st to enable our Future
DESCRIPTION: 27.-29.10.2023 / München (Frist für Einreichungen: 1.8.2023) h
 ttps://www.juwiss.de/wp-content/uploads/2023/07/call-for-papers_foko2023-2.
 pdf
X-ALT-DESC;FMTTYPE=text/html: <p>27.-29.10.2023 / München <strong>(Frist fü
 r Einreichungen: 1.8.2023)</strong></p><p><a href="https://www.juwiss.de/wp
 -content/uploads/2023/07/call-for-papers_foko2023-2.pdf">https://www.juwiss
 .de/wp-content/uploads/2023/07/call-for-papers_foko2023-2.pdf</a></p><p>[av
 _button label='iCal-Export' link='./feed/eo-events' link_target='' size='sm
 all' position='center' label_display='' title_attr='' icon_select='yes' ico
 n='ue85b' font='entypo-fontello' color='custom' custom_bg='#b5123e' custom_
 font='#ffffff' av_uid='' id='' custom_class='' admin_preview_bg='']</p>
CATEGORIES:Europäisches / Internationales Recht
LOCATION:Inland
GEO:0.000000;0.000000
ORGANIZER;CN="ViFa-Recht":MAILTO:vifa-recht@sbb.spk-berlin.de
URL;VALUE=URI:https://events.intrecht.de/termine/termin/12-un-forschungskol
 loquium-back-to-the-future-revisiting-the-past-to-enable-our-future/
END:VEVENT
BEGIN:VTIMEZONE
TZID:Europe/Berlin
BEGIN:DAYLIGHT
TZOFFSETFROM:+0100
TZOFFSETTO:+0200
DTSTART:20230326T010000
TZNAME:CEST
END:DAYLIGHT
END:VTIMEZONE
END:VCALENDAR
