BEGIN:VCALENDAR
VERSION:2.0
PRODID:-//Events | FID-Recht//NONSGML Events//EN
CALSCALE:GREGORIAN
X-ORIGINAL-URL:https://events.intrecht.de/termine/
X-WR-CALDESC:Events | FID-Recht - Events
BEGIN:VEVENT
UID:20200603T1418Z-1591193923.3362-EO-587-1@172.16.200.141
STATUS:CONFIRMED
DTSTAMP:20260425T150854Z
CREATED:20230221T123121Z
LAST-MODIFIED:20230221T123121Z
DTSTART;VALUE=DATE:20230802
DTEND;VALUE=DATE:20230806
SUMMARY: 11th Biennial Conference: Repatriating African Studies
DESCRIPTION: 2.-5.8.2023 / Legon\, Vorort von Accra (Frist für Einreichunge
 n: 15.3.2023) https://www.aswadiaspora.org/association-for-the-study-of-the
 -worldwide-african-diaspora–aswad–11th-biennial-conference-and-convening-of
 -the-international-congress-of-african-and-african-diaspora-studies–icaads-
X-ALT-DESC;FMTTYPE=text/html: <p>2.-5.8.2023 / Legon\, Vorort von Accra <st
 rong>(Frist für Einreichungen: 15.3.2023)</strong></p><p><a href="https://w
 ww.aswadiaspora.org/association-for-the-study-of-the-worldwide-african-dias
 pora--aswad--11th-biennial-conference-and-convening-of-the-international-co
 ngress-of-african-and-african-diaspora-studies--icaads-">https://www.aswadi
 aspora.org/association-for-the-study-of-the-worldwide-african-diaspora--asw
 ad--11th-biennial-conference-and-convening-of-the-international-congress-of
 -african-and-african-diaspora-studies--icaads-</a></p><p>[av_button label='
 iCal-Export' link='./feed/eo-events' link_target='' size='small' position='
 center' label_display='' title_attr='' icon_select='yes' icon='ue85b' font=
 'entypo-fontello' color='custom' custom_bg='#b5123e' custom_font='#ffffff' 
 av_uid='' id='' custom_class='' admin_preview_bg='']</p>
CATEGORIES:Recht interdisziplinär
LOCATION:Ausland
GEO:0.000000;0.000000
ORGANIZER;CN="ViFa-Recht":MAILTO:vifa-recht@sbb.spk-berlin.de
URL;VALUE=URI:https://events.intrecht.de/termine/termin/11th-biennial-confe
 rence-repatriating-african-studies/
END:VEVENT
BEGIN:VTIMEZONE
TZID:Europe/Berlin
BEGIN:DAYLIGHT
TZOFFSETFROM:+0100
TZOFFSETTO:+0200
DTSTART:20230326T010000
TZNAME:CEST
END:DAYLIGHT
END:VTIMEZONE
END:VCALENDAR
