BEGIN:VCALENDAR
VERSION:2.0
PRODID:-//Events | FID-Recht//NONSGML Events//EN
CALSCALE:GREGORIAN
X-ORIGINAL-URL:https://events.intrecht.de/termine/
X-WR-CALDESC:Events | FID-Recht - Events
BEGIN:VEVENT
UID:20230510T0123Z-1683681783.0637-EO-8300-1@172.16.200.151
STATUS:CONFIRMED
DTSTAMP:20260425T132523Z
CREATED:20230207T092856Z
LAST-MODIFIED:20230207T092856Z
DTSTART;VALUE=DATE:20230712
DTEND;VALUE=DATE:20230715
SUMMARY: 10th European Workshops in International Studies: Are we doomed? R
 ethinking War and Peace in World Politics
DESCRIPTION: 12.-14.7.2023 / Amsterdam (Anmeldefrist: 9.4.2023) https://eis
 a-net.org/ewis-2023-call-for-workshop-proposals/  
X-ALT-DESC;FMTTYPE=text/html: <p>12.-14.7.2023 / Amsterdam <strong>(Anmelde
 frist: 9.4.2023)</strong></p><p><a href="https://eisa-net.org/ewis-2023-cal
 l-for-workshop-proposals/">https://eisa-net.org/ewis-2023-call-for-workshop
 -proposals/</a></p><p> </p><p>[av_button label='iCal-Export' link='./feed/e
 o-events' link_target='' size='small' position='center' label_display='' ti
 tle_attr='' icon_select='yes' icon='ue85b' font='entypo-fontello' color='cu
 stom' custom_bg='#b5123e' custom_font='#ffffff' av_uid='' id='' custom_clas
 s='' admin_preview_bg='']</p>
CATEGORIES:Europäisches / Internationales Recht
LOCATION:Ausland
GEO:0.000000;0.000000
ORGANIZER;CN="ViFa-Recht":MAILTO:vifa-recht@sbb.spk-berlin.de
URL;VALUE=URI:https://events.intrecht.de/termine/termin/10th-european-works
 hops-in-international-studies-are-we-doomed-rethinking-war-and-peace-in-wor
 ld-politics/
END:VEVENT
BEGIN:VTIMEZONE
TZID:Europe/Berlin
BEGIN:DAYLIGHT
TZOFFSETFROM:+0100
TZOFFSETTO:+0200
DTSTART:20230326T010000
TZNAME:CEST
END:DAYLIGHT
END:VTIMEZONE
END:VCALENDAR
