BEGIN:VCALENDAR
VERSION:2.0
PRODID:-//Events | FID-Recht//NONSGML Events//EN
CALSCALE:GREGORIAN
X-ORIGINAL-URL:https://events.intrecht.de/termine/
X-WR-CALDESC:Events | FID-Recht - Events
BEGIN:VEVENT
UID:20200603T1418Z-1591193923.3362-EO-587-1@172.16.200.141
STATUS:CONFIRMED
DTSTAMP:20260422T211805Z
CREATED:20241115T151259Z
LAST-MODIFIED:20241115T151347Z
DTSTART;VALUE=DATE:20241120
DTEND;VALUE=DATE:20241121
SUMMARY: 100 Jahre öffentliches Recht: Aus der Geschichte des Instituts für
  ausländisches öffentliches Recht und Völkerrecht (Workshop & Buchgespräche
 )
DESCRIPTION: 20.11.2024 / Berlin https://www.mpil.de/de/pub/aktuelles/veran
 staltungen.cfm?event=calendar.Display&cat=3&iDisplayID=7&event_ID=967&date=
 11/13/2024
X-ALT-DESC;FMTTYPE=text/html: <p>20.11.2024 / Berlin</p><p><a href="https:/
 /www.mpil.de/de/pub/aktuelles/veranstaltungen.cfm?event=calendar.Display&ca
 t=3&iDisplayID=7&event_ID=967&date=11/13/2024">https://www.mpil.de/de/pub/a
 ktuelles/veranstaltungen.cfm?event=calendar.Display&cat=3&iDisplayID=7&even
 t_ID=967&date=11/13/2024</a></p><p>[av_button label='iCal-Export' link='./f
 eed/eo-events' link_target='' size='small' position='center' label_display=
 '' title_attr='' icon_select='yes' icon='ue85b' font='entypo-fontello' colo
 r='custom' custom_bg='#b5123e' custom_font='#ffffff' av_uid='' id='' custom
 _class='' admin_preview_bg='']</p>
CATEGORIES:Europäisches / Internationales Recht
LOCATION:Inland
GEO:0.000000;0.000000
ORGANIZER;CN="ViFa-Recht":MAILTO:vifa-recht@sbb.spk-berlin.de
URL;VALUE=URI:https://events.intrecht.de/termine/termin/100-jahre-oeffentli
 ches-recht-aus-der-geschichte-des-instituts-fuer-auslaendisches-oeffentlich
 es-recht-und-voelkerrecht-workshop-buchgespraeche/
END:VEVENT
BEGIN:VTIMEZONE
TZID:Europe/Berlin
BEGIN:STANDARD
TZOFFSETFROM:+0200
TZOFFSETTO:+0100
DTSTART:20241027T010000
TZNAME:CET
END:STANDARD
END:VTIMEZONE
END:VCALENDAR
