BEGIN:VCALENDAR
VERSION:2.0
PRODID:-//Events | FID-Recht//NONSGML Events//EN
CALSCALE:GREGORIAN
X-ORIGINAL-URL:https://events.intrecht.de/termine/
X-WR-CALDESC:Events | FID-Recht - Events
BEGIN:VEVENT
UID:20220627T0222Z-1656296544.1511-EO-4300-1@172.16.200.151
STATUS:CONFIRMED
DTSTAMP:20260421T115335Z
CREATED:20220623T140456Z
LAST-MODIFIED:20220623T140456Z
DTSTART;VALUE=DATE:20220729
DTEND;VALUE=DATE:20220729
SUMMARY: 1. Kulmbacher Bierrechtstag (Tagung)
DESCRIPTION: 29.7.2022\, Kulmbach Bierrechtstag (uni-bayreuth.de)  
X-ALT-DESC;FMTTYPE=text/html: <p>29.7.2022\, Kulmbach</p><p><a href="https:
 //www.bierrechtstag.uni-bayreuth.de/de/index.html">Bierrechtstag (uni-bayre
 uth.de)</a></p><p> </p><p>[av_button label='iCal-Export' link='./feed/eo-ev
 ents' link_target='' size='small' position='center' label_display='' title_
 attr='' icon_select='yes' icon='ue85b' font='entypo-fontello' color='custom
 ' custom_bg='#b5123e' custom_font='#ffffff' av_uid='' id='' custom_class=''
  admin_preview_bg='']</p>
CATEGORIES:Recht interdisziplinär
LOCATION:Inland
GEO:0.000000;0.000000
ORGANIZER;CN="ViFa-Recht":MAILTO:vifa-recht@sbb.spk-berlin.de
URL;VALUE=URI:https://events.intrecht.de/termine/termin/1-kulmbacher-bierre
 chtstag-tagung/
END:VEVENT
BEGIN:VTIMEZONE
TZID:Europe/Berlin
BEGIN:DAYLIGHT
TZOFFSETFROM:+0100
TZOFFSETTO:+0200
DTSTART:20220327T010000
TZNAME:CEST
END:DAYLIGHT
END:VTIMEZONE
END:VCALENDAR
