BEGIN:VCALENDAR
VERSION:2.0
PRODID:-//Events | FID-Recht//NONSGML Events//EN
CALSCALE:GREGORIAN
X-ORIGINAL-URL:https://events.intrecht.de/termine/
X-WR-CALDESC:Events | FID-Recht - Events
BEGIN:VEVENT
UID:20220830T2349Z-1661903378.214-EO-4851-1@172.16.200.151
STATUS:CONFIRMED
DTSTAMP:20260421T115435Z
CREATED:20220829T125536Z
LAST-MODIFIED:20220829T125536Z
DTSTART;VALUE=DATE:20221007
DTEND;VALUE=DATE:20221007
SUMMARY: 1. Deutsch-Japanischer (Online-)Strafrechtstag (via Zoom)
DESCRIPTION: 7.10.2022/Online https://buceriuslawschool.wufoo.com/forms/deu
 tschjapanischer-onlinestrafrechtstag  
X-ALT-DESC;FMTTYPE=text/html: <p>7.10.2022/Online</p><p><a href="https://bu
 ceriuslawschool.wufoo.com/forms/deutschjapanischer-onlinestrafrechtstag">ht
 tps://buceriuslawschool.wufoo.com/forms/deutschjapanischer-onlinestrafrecht
 stag</a></p><p> </p><p>[av_button label='iCal-Export' link='./feed/eo-event
 s' link_target='' size='small' position='center' label_display='' title_att
 r='' icon_select='yes' icon='ue85b' font='entypo-fontello' color='custom' c
 ustom_bg='#b5123e' custom_font='#ffffff' av_uid='' id='' custom_class='' ad
 min_preview_bg='']</p>
CATEGORIES:Recht interdisziplinär
LOCATION:Online
GEO:0.000000;0.000000
ORGANIZER;CN="ViFa-Recht":MAILTO:vifa-recht@sbb.spk-berlin.de
URL;VALUE=URI:https://events.intrecht.de/termine/termin/1-deutsch-japanisch
 er-online-strafrechtstag-via-zoom/
END:VEVENT
BEGIN:VTIMEZONE
TZID:Europe/Berlin
BEGIN:DAYLIGHT
TZOFFSETFROM:+0100
TZOFFSETTO:+0200
DTSTART:20220327T010000
TZNAME:CEST
END:DAYLIGHT
END:VTIMEZONE
END:VCALENDAR
