BEGIN:VCALENDAR
VERSION:2.0
PRODID:-//Events | FID-Recht//NONSGML Events//EN
CALSCALE:GREGORIAN
X-ORIGINAL-URL:https://events.intrecht.de/termine/
X-WR-CALDESC:Events | FID-Recht - Events
BEGIN:VEVENT
UID:20200603T1418Z-1591193923.3362-EO-587-1@172.16.200.141
STATUS:CONFIRMED
DTSTAMP:20260425T132607Z
CREATED:20230713T080610Z
LAST-MODIFIED:20230713T080610Z
DTSTART;VALUE=DATE:20230922
DTEND;VALUE=DATE:20230923
SUMMARY: § 129 StGB – Der Kampf gegen wirtschaftskriminelle Vereinigungen (
 Vortrags- und Diskussionsveranstaltung)
DESCRIPTION: 22.9.2023 / Online und Kiel https://wistev.de/veranstaltungen/
 129-stgb-der-kampf-gegen-wirtschaftskriminelle-vereinigungen/
X-ALT-DESC;FMTTYPE=text/html: <p>22.9.2023 / Online und Kiel</p><p><a href=
 "https://wistev.de/veranstaltungen/129-stgb-der-kampf-gegen-wirtschaftskrim
 inelle-vereinigungen/">https://wistev.de/veranstaltungen/129-stgb-der-kampf
 -gegen-wirtschaftskriminelle-vereinigungen/</a></p><p>[av_button label='iCa
 l-Export' link='./feed/eo-events' link_target='' size='small' position='cen
 ter' label_display='' title_attr='' icon_select='yes' icon='ue85b' font='en
 typo-fontello' color='custom' custom_bg='#b5123e' custom_font='#ffffff' av_
 uid='' id='' custom_class='' admin_preview_bg='']</p>
CATEGORIES:Strafrecht
LOCATION:Online
GEO:0.000000;0.000000
ORGANIZER;CN="ViFa-Recht":MAILTO:vifa-recht@sbb.spk-berlin.de
URL;VALUE=URI:https://events.intrecht.de/termine/termin/%c2%a7-129-stgb-der
 -kampf-gegen-wirtschaftskriminelle-vereinigungen-vortrags-und-diskussionsve
 ranstaltung/
END:VEVENT
BEGIN:VTIMEZONE
TZID:Europe/Berlin
BEGIN:DAYLIGHT
TZOFFSETFROM:+0100
TZOFFSETTO:+0200
DTSTART:20230326T010000
TZNAME:CEST
END:DAYLIGHT
END:VTIMEZONE
END:VCALENDAR
